Package: WGSmapp Version: 1.12.0 Command: /home/biocbuild/bbs-3.17-bioc/R/bin/R CMD INSTALL WGSmapp StartedAt: 2023-10-12 10:05:19 -0400 (Thu, 12 Oct 2023) EndedAt: 2023-10-12 10:06:30 -0400 (Thu, 12 Oct 2023) EllapsedTime: 71.4 seconds RetCode: 0 Status: OK