Package: WGSmapp Version: 1.12.0 Command: /home/biocbuild/bbs-3.17-bioc/R/bin/R CMD build --keep-empty-dirs --no-resave-data WGSmapp StartedAt: 2023-10-12 10:56:24 -0400 (Thu, 12 Oct 2023) EndedAt: 2023-10-12 10:56:44 -0400 (Thu, 12 Oct 2023) EllapsedTime: 20.6 seconds RetCode: 0 Status: OK PackageFile: WGSmapp_1.12.0.tar.gz PackageFileSize: 195.7 MiB