Package: WES.1KG.WUGSC Version: 1.32.0 Command: /home/biocbuild/bbs-3.17-bioc/R/bin/R CMD INSTALL WES.1KG.WUGSC StartedAt: 2023-10-12 10:01:07 -0400 (Thu, 12 Oct 2023) EndedAt: 2023-10-12 10:01:10 -0400 (Thu, 12 Oct 2023) EllapsedTime: 2.6 seconds RetCode: 0 Status: OK