Package: WES.1KG.WUGSC Version: 1.32.0 Command: /home/biocbuild/bbs-3.17-bioc/R/bin/R CMD check --install=check:WES.1KG.WUGSC.install-out.txt --library=/home/biocbuild/bbs-3.17-bioc/R/site-library --timings WES.1KG.WUGSC_1.32.0.tar.gz StartedAt: 2023-10-12 12:13:36 -0400 (Thu, 12 Oct 2023) EndedAt: 2023-10-12 12:14:01 -0400 (Thu, 12 Oct 2023) EllapsedTime: 24.3 seconds RetCode: 0 Status: OK CheckDir: WES.1KG.WUGSC.Rcheck Warnings: 0