Package: TMExplorer Version: 1.10.0 Command: /home/biocbuild/bbs-3.17-bioc/R/bin/R CMD INSTALL TMExplorer StartedAt: 2023-10-12 10:07:01 -0400 (Thu, 12 Oct 2023) EndedAt: 2023-10-12 10:07:24 -0400 (Thu, 12 Oct 2023) EllapsedTime: 22.4 seconds RetCode: 0 Status: OK