Package: TMExplorer Version: 1.10.0 Command: /home/biocbuild/bbs-3.17-bioc/R/bin/R CMD check --install=check:TMExplorer.install-out.txt --library=/home/biocbuild/bbs-3.17-bioc/R/site-library --timings TMExplorer_1.10.0.tar.gz StartedAt: 2023-10-12 12:11:14 -0400 (Thu, 12 Oct 2023) EndedAt: 2023-10-12 12:19:03 -0400 (Thu, 12 Oct 2023) EllapsedTime: 468.8 seconds RetCode: 0 Status: OK CheckDir: TMExplorer.Rcheck Warnings: 0