Package: TMExplorer Version: 1.10.0 Command: /home/biocbuild/bbs-3.17-bioc/R/bin/R CMD build --keep-empty-dirs --no-resave-data TMExplorer StartedAt: 2023-10-12 10:55:07 -0400 (Thu, 12 Oct 2023) EndedAt: 2023-10-12 10:55:53 -0400 (Thu, 12 Oct 2023) EllapsedTime: 46.5 seconds RetCode: 0 Status: OK PackageFile: TMExplorer_1.10.0.tar.gz PackageFileSize: 233.1 KiB