git_url: https://git.bioconductor.org/packages/TMExplorer git_branch: RELEASE_3_17 git_last_commit: ebf2ca4 git_last_commit_date: 2023-04-25 10:49:00 -0400 (Tue, 25 Apr 2023) Package: TMExplorer Version: 1.10.0 Maintainer: Erik Christensen MaintainerEmail: echris3 at uwo.ca