git_url: https://git.bioconductor.org/packages/TCGAbiolinksGUI.data git_branch: RELEASE_3_17 git_last_commit: cd4b6a2 git_last_commit_date: 2023-04-25 10:44:42 -0400 (Tue, 25 Apr 2023) Package: TCGAbiolinksGUI.data Version: 1.20.0 Maintainer: Tiago Chedraoui Silva MaintainerEmail: tiagochst at gmail.com