Package: TCGAWorkflowData Version: 1.24.1 Command: /home/biocbuild/bbs-3.17-bioc/R/bin/R CMD INSTALL TCGAWorkflowData StartedAt: 2023-10-12 10:12:17 -0400 (Thu, 12 Oct 2023) EndedAt: 2023-10-12 10:13:16 -0400 (Thu, 12 Oct 2023) EllapsedTime: 59.4 seconds RetCode: 0 Status: OK