Package: TCGAWorkflowData Version: 1.24.1 Command: /home/biocbuild/bbs-3.17-bioc/R/bin/R CMD check --install=check:TCGAWorkflowData.install-out.txt --library=/home/biocbuild/bbs-3.17-bioc/R/site-library --timings TCGAWorkflowData_1.24.1.tar.gz StartedAt: 2023-10-12 12:08:42 -0400 (Thu, 12 Oct 2023) EndedAt: 2023-10-12 12:16:10 -0400 (Thu, 12 Oct 2023) EllapsedTime: 447.4 seconds RetCode: 0 Status: OK CheckDir: TCGAWorkflowData.Rcheck Warnings: 0