Package: SomatiCAData Version: 1.38.0 Command: /home/biocbuild/bbs-3.17-bioc/R/bin/R CMD check --install=check:SomatiCAData.install-out.txt --library=/home/biocbuild/bbs-3.17-bioc/R/site-library --timings SomatiCAData_1.38.0.tar.gz StartedAt: 2023-10-12 12:03:43 -0400 (Thu, 12 Oct 2023) EndedAt: 2023-10-12 12:05:39 -0400 (Thu, 12 Oct 2023) EllapsedTime: 116.6 seconds RetCode: 0 Status: WARNINGS CheckDir: SomatiCAData.Rcheck Warnings: 2