Package: SingleMoleculeFootprintingData Version: 1.8.0 Command: /home/biocbuild/bbs-3.17-bioc/R/bin/R CMD INSTALL SingleMoleculeFootprintingData StartedAt: 2023-10-12 10:04:47 -0400 (Thu, 12 Oct 2023) EndedAt: 2023-10-12 10:05:01 -0400 (Thu, 12 Oct 2023) EllapsedTime: 13.7 seconds RetCode: 0 Status: OK