Package: SingleMoleculeFootprintingData Version: 1.8.0 Command: /home/biocbuild/bbs-3.17-bioc/R/bin/R CMD check --install=check:SingleMoleculeFootprintingData.install-out.txt --library=/home/biocbuild/bbs-3.17-bioc/R/site-library --timings SingleMoleculeFootprintingData_1.8.0.tar.gz StartedAt: 2023-10-12 12:03:06 -0400 (Thu, 12 Oct 2023) EndedAt: 2023-10-12 12:05:21 -0400 (Thu, 12 Oct 2023) EllapsedTime: 134.5 seconds RetCode: 0 Status: OK CheckDir: SingleMoleculeFootprintingData.Rcheck Warnings: 0