git_url: https://git.bioconductor.org/packages/Single.mTEC.Transcriptomes git_branch: RELEASE_3_17 git_last_commit: 1862afb git_last_commit_date: 2023-04-25 10:40:52 -0400 (Tue, 25 Apr 2023) Package: Single.mTEC.Transcriptomes Version: 1.28.0 Maintainer: Alejandro Reyes MaintainerEmail: alejandro.reyes.ds at gmail.com