Package: SNAData Version: 1.46.0 Command: /home/biocbuild/bbs-3.17-bioc/R/bin/R CMD INSTALL SNAData StartedAt: 2023-10-12 10:01:45 -0400 (Thu, 12 Oct 2023) EndedAt: 2023-10-12 10:01:48 -0400 (Thu, 12 Oct 2023) EllapsedTime: 2.5 seconds RetCode: 0 Status: OK