Package: SNAData Version: 1.46.0 Command: /home/biocbuild/bbs-3.17-bioc/R/bin/R CMD check --install=check:SNAData.install-out.txt --library=/home/biocbuild/bbs-3.17-bioc/R/site-library --timings SNAData_1.46.0.tar.gz StartedAt: 2023-10-12 12:03:25 -0400 (Thu, 12 Oct 2023) EndedAt: 2023-10-12 12:03:54 -0400 (Thu, 12 Oct 2023) EllapsedTime: 29.3 seconds RetCode: 0 Status: OK CheckDir: SNAData.Rcheck Warnings: 0