Package: SNAData Version: 1.46.0 Command: /home/biocbuild/bbs-3.17-bioc/R/bin/R CMD build --keep-empty-dirs --no-resave-data SNAData StartedAt: 2023-10-12 10:51:36 -0400 (Thu, 12 Oct 2023) EndedAt: 2023-10-12 10:51:42 -0400 (Thu, 12 Oct 2023) EllapsedTime: 6.1 seconds RetCode: 0 Status: OK PackageFile: SNAData_1.46.0.tar.gz PackageFileSize: 120.5 KiB