git_url: https://git.bioconductor.org/packages/SNAData git_branch: RELEASE_3_17 git_last_commit: 84a8b8b git_last_commit_date: 2023-04-25 09:50:09 -0400 (Tue, 25 Apr 2023) Package: SNAData Version: 1.46.0 Maintainer: Denise Scholtens MaintainerEmail: dscholtens at northwestern.edu