Package: SFEData Version: 1.2.0 Command: /home/biocbuild/bbs-3.17-bioc/R/bin/R CMD INSTALL SFEData StartedAt: 2023-10-12 10:04:04 -0400 (Thu, 12 Oct 2023) EndedAt: 2023-10-12 10:04:19 -0400 (Thu, 12 Oct 2023) EllapsedTime: 14.9 seconds RetCode: 0 Status: OK