Package: SFEData Version: 1.2.0 Command: /home/biocbuild/bbs-3.17-bioc/R/bin/R CMD build --keep-empty-dirs --no-resave-data SFEData StartedAt: 2023-10-12 10:50:40 -0400 (Thu, 12 Oct 2023) EndedAt: 2023-10-12 10:51:15 -0400 (Thu, 12 Oct 2023) EllapsedTime: 35.0 seconds RetCode: 0 Status: OK PackageFile: SFEData_1.2.0.tar.gz PackageFileSize: 233.1 KiB