Package: SBGNview.data Version: 1.14.0 Command: /home/biocbuild/bbs-3.17-bioc/R/bin/R CMD check --install=check:SBGNview.data.install-out.txt --library=/home/biocbuild/bbs-3.17-bioc/R/site-library --timings SBGNview.data_1.14.0.tar.gz StartedAt: 2023-10-12 11:59:53 -0400 (Thu, 12 Oct 2023) EndedAt: 2023-10-12 12:01:34 -0400 (Thu, 12 Oct 2023) EllapsedTime: 101.2 seconds RetCode: 0 Status: OK CheckDir: SBGNview.data.Rcheck Warnings: 0