git_url: https://git.bioconductor.org/packages/SBGNview.data git_branch: RELEASE_3_17 git_last_commit: 2f734bb git_last_commit_date: 2023-04-25 10:47:35 -0400 (Tue, 25 Apr 2023) Package: SBGNview.data Version: 1.14.0 Maintainer: Weijun Luo MaintainerEmail: luo_weijun at yahoo.com