git_url: https://git.bioconductor.org/packages/RnBeads.mm9 git_branch: RELEASE_3_17 git_last_commit: 15f5f12 git_last_commit_date: 2023-04-25 10:38:22 -0400 (Tue, 25 Apr 2023) Package: RnBeads.mm9 Version: 1.32.0 Maintainer: RnBeadsAnnotationCreator MaintainerEmail: rnbeads at mpi-inf.mpg.de