Package: RcisTarget.hg19.motifDBs.cisbpOnly.500bp Version: 1.20.0 Command: /home/biocbuild/bbs-3.17-bioc/R/bin/R CMD INSTALL RcisTarget.hg19.motifDBs.cisbpOnly.500bp StartedAt: 2023-10-12 10:01:10 -0400 (Thu, 12 Oct 2023) EndedAt: 2023-10-12 10:01:19 -0400 (Thu, 12 Oct 2023) EllapsedTime: 8.9 seconds RetCode: 0 Status: OK