Package: RcisTarget.hg19.motifDBs.cisbpOnly.500bp Version: 1.20.0 Command: /home/biocbuild/bbs-3.17-bioc/R/bin/R CMD build --keep-empty-dirs --no-resave-data RcisTarget.hg19.motifDBs.cisbpOnly.500bp StartedAt: 2023-10-12 10:46:32 -0400 (Thu, 12 Oct 2023) EndedAt: 2023-10-12 10:46:44 -0400 (Thu, 12 Oct 2023) EllapsedTime: 12.2 seconds RetCode: 0 Status: OK PackageFile: RcisTarget.hg19.motifDBs.cisbpOnly.500bp_1.20.0.tar.gz PackageFileSize: 53.48 MiB