Package: RUVnormalizeData Version: 1.20.0 Command: /home/biocbuild/bbs-3.17-bioc/R/bin/R CMD INSTALL RUVnormalizeData StartedAt: 2023-10-12 10:01:20 -0400 (Thu, 12 Oct 2023) EndedAt: 2023-10-12 10:01:22 -0400 (Thu, 12 Oct 2023) EllapsedTime: 1.6 seconds RetCode: 0 Status: OK