Package: RUVnormalizeData Version: 1.20.0 Command: /home/biocbuild/bbs-3.17-bioc/R/bin/R CMD build --keep-empty-dirs --no-resave-data RUVnormalizeData StartedAt: 2023-10-12 10:48:39 -0400 (Thu, 12 Oct 2023) EndedAt: 2023-10-12 10:48:44 -0400 (Thu, 12 Oct 2023) EllapsedTime: 5.0 seconds RetCode: 0 Status: OK PackageFile: RUVnormalizeData_1.20.0.tar.gz PackageFileSize: 7.726 MiB