Package: RTCGA.methylation Version: 1.28.0 Command: /home/biocbuild/bbs-3.17-bioc/R/bin/R CMD build --keep-empty-dirs --no-resave-data RTCGA.methylation StartedAt: 2023-10-12 10:47:52 -0400 (Thu, 12 Oct 2023) EndedAt: 2023-10-12 10:51:34 -0400 (Thu, 12 Oct 2023) EllapsedTime: 222.8 seconds RetCode: 0 Status: OK PackageFile: RTCGA.methylation_1.28.0.tar.gz PackageFileSize: 622.8 MiB