Package: RTCGA.mRNA Version: 1.28.0 Command: /home/biocbuild/bbs-3.17-bioc/R/bin/R CMD check --install=check:RTCGA.mRNA.install-out.txt --library=/home/biocbuild/bbs-3.17-bioc/R/site-library --timings RTCGA.mRNA_1.28.0.tar.gz StartedAt: 2023-10-12 11:58:09 -0400 (Thu, 12 Oct 2023) EndedAt: 2023-10-12 11:59:29 -0400 (Thu, 12 Oct 2023) EllapsedTime: 80.3 seconds RetCode: 0 Status: WARNINGS CheckDir: RTCGA.mRNA.Rcheck Warnings: 1