Package: RTCGA.mRNA Version: 1.28.0 Command: /home/biocbuild/bbs-3.17-bioc/R/bin/R CMD build --keep-empty-dirs --no-resave-data RTCGA.mRNA StartedAt: 2023-10-12 10:48:07 -0400 (Thu, 12 Oct 2023) EndedAt: 2023-10-12 10:49:06 -0400 (Thu, 12 Oct 2023) EllapsedTime: 59.5 seconds RetCode: 0 Status: OK PackageFile: RTCGA.mRNA_1.28.0.tar.gz PackageFileSize: 84.98 MiB