Package: RMassBankData Version: 1.38.0 Command: /home/biocbuild/bbs-3.17-bioc/R/bin/R CMD INSTALL RMassBankData StartedAt: 2023-10-12 10:00:57 -0400 (Thu, 12 Oct 2023) EndedAt: 2023-10-12 10:00:59 -0400 (Thu, 12 Oct 2023) EllapsedTime: 2.4 seconds RetCode: 0 Status: OK