Package: RMassBankData Version: 1.38.0 Command: /home/biocbuild/bbs-3.17-bioc/R/bin/R CMD build --keep-empty-dirs --no-resave-data RMassBankData StartedAt: 2023-10-12 10:46:58 -0400 (Thu, 12 Oct 2023) EndedAt: 2023-10-12 10:47:11 -0400 (Thu, 12 Oct 2023) EllapsedTime: 13.7 seconds RetCode: 0 Status: OK PackageFile: RMassBankData_1.38.0.tar.gz PackageFileSize: 51.54 MiB