git_url: https://git.bioconductor.org/packages/RMassBankData git_branch: RELEASE_3_17 git_last_commit: f553a55 git_last_commit_date: 2023-04-25 09:54:49 -0400 (Tue, 25 Apr 2023) Package: RMassBankData Version: 1.38.0 Maintainer: Michael Stravs, Emma Schymanski MaintainerEmail: massbank at eawag.ch