Package: RITANdata Version: 1.24.0 Command: /home/biocbuild/bbs-3.17-bioc/R/bin/R CMD INSTALL RITANdata StartedAt: 2023-07-06 10:00:35 -0400 (Thu, 06 Jul 2023) EndedAt: 2023-07-06 10:00:45 -0400 (Thu, 06 Jul 2023) EllapsedTime: 10.0 seconds RetCode: 0 Status: OK