Package: RITANdata Version: 1.24.0 Command: /home/biocbuild/bbs-3.17-bioc/R/bin/R CMD check --install=check:RITANdata.install-out.txt --library=/home/biocbuild/bbs-3.17-bioc/R/site-library --timings RITANdata_1.24.0.tar.gz StartedAt: 2023-07-06 11:54:27 -0400 (Thu, 06 Jul 2023) EndedAt: 2023-07-06 11:54:46 -0400 (Thu, 06 Jul 2023) EllapsedTime: 19.3 seconds RetCode: 1 Status: ERROR CheckDir: RITANdata.Rcheck Warnings: NA