Package: RITANdata Version: 1.24.0 Command: /home/biocbuild/bbs-3.17-bioc/R/bin/R CMD build --keep-empty-dirs --no-resave-data RITANdata StartedAt: 2023-07-06 10:46:24 -0400 (Thu, 06 Jul 2023) EndedAt: 2023-07-06 10:46:35 -0400 (Thu, 06 Jul 2023) EllapsedTime: 11.7 seconds RetCode: 0 Status: OK PackageFile: RITANdata_1.24.0.tar.gz PackageFileSize: 7.434 MiB