git_url: https://git.bioconductor.org/packages/RITANdata git_branch: RELEASE_3_17 git_last_commit: d827981 git_last_commit_date: 2023-04-25 10:51:26 -0400 (Tue, 25 Apr 2023) Package: RITANdata Version: 1.24.0 Maintainer: Michael Zimmermann MaintainerEmail: mtzimmermann at mcw.edu