Package: ProData Version: 1.38.0 Command: /home/biocbuild/bbs-3.17-bioc/R/bin/R CMD check --install=check:ProData.install-out.txt --library=/home/biocbuild/bbs-3.17-bioc/R/site-library --timings ProData_1.38.0.tar.gz StartedAt: 2023-10-12 11:51:15 -0400 (Thu, 12 Oct 2023) EndedAt: 2023-10-12 11:51:30 -0400 (Thu, 12 Oct 2023) EllapsedTime: 14.9 seconds RetCode: 0 Status: OK CheckDir: ProData.Rcheck Warnings: 0