Package: ProData Version: 1.38.0 Command: /home/biocbuild/bbs-3.17-bioc/R/bin/R CMD build --keep-empty-dirs --no-resave-data ProData StartedAt: 2023-10-12 10:45:28 -0400 (Thu, 12 Oct 2023) EndedAt: 2023-10-12 10:45:30 -0400 (Thu, 12 Oct 2023) EllapsedTime: 2.4 seconds RetCode: 0 Status: OK PackageFile: ProData_1.38.0.tar.gz PackageFileSize: 19.05 MiB