Package: PepsNMRData Version: 1.18.0 Command: /home/biocbuild/bbs-3.17-bioc/R/bin/R CMD INSTALL PepsNMRData StartedAt: 2023-10-12 10:00:56 -0400 (Thu, 12 Oct 2023) EndedAt: 2023-10-12 10:01:12 -0400 (Thu, 12 Oct 2023) EllapsedTime: 15.8 seconds RetCode: 0 Status: OK