Package: PepsNMRData Version: 1.18.0 Command: /home/biocbuild/bbs-3.17-bioc/R/bin/R CMD build --keep-empty-dirs --no-resave-data PepsNMRData StartedAt: 2023-10-12 10:44:48 -0400 (Thu, 12 Oct 2023) EndedAt: 2023-10-12 10:45:01 -0400 (Thu, 12 Oct 2023) EllapsedTime: 13.3 seconds RetCode: 0 Status: OK PackageFile: PepsNMRData_1.18.0.tar.gz PackageFileSize: 31.89 MiB