git_url: https://git.bioconductor.org/packages/PepsNMRData git_branch: RELEASE_3_17 git_last_commit: 3b3f124 git_last_commit_date: 2023-04-25 10:46:24 -0400 (Tue, 25 Apr 2023) Package: PepsNMRData Version: 1.18.0 Maintainer: Manon Martin MaintainerEmail: manon.martin at uclouvain.be