git_url: https://git.bioconductor.org/packages/PathNetData git_branch: RELEASE_3_17 git_last_commit: fd4c300 git_last_commit_date: 2023-07-30 15:45:49 -0400 (Sun, 30 Jul 2023) Package: PathNetData Version: 1.36.1 Maintainer: Ludwig Geistlinger MaintainerEmail: ludwig.geistlinger at gmail.com