Package: OMICsPCAdata Version: 1.18.0 Command: /home/biocbuild/bbs-3.17-bioc/R/bin/R CMD INSTALL OMICsPCAdata StartedAt: 2023-10-12 10:06:57 -0400 (Thu, 12 Oct 2023) EndedAt: 2023-10-12 10:07:43 -0400 (Thu, 12 Oct 2023) EllapsedTime: 45.4 seconds RetCode: 0 Status: OK