Package: OMICsPCAdata Version: 1.18.0 Command: /home/biocbuild/bbs-3.17-bioc/R/bin/R CMD check --install=check:OMICsPCAdata.install-out.txt --library=/home/biocbuild/bbs-3.17-bioc/R/site-library --timings OMICsPCAdata_1.18.0.tar.gz StartedAt: 2023-10-12 11:48:36 -0400 (Thu, 12 Oct 2023) EndedAt: 2023-10-12 11:50:18 -0400 (Thu, 12 Oct 2023) EllapsedTime: 102.0 seconds RetCode: 0 Status: WARNINGS CheckDir: OMICsPCAdata.Rcheck Warnings: 1