Package: NetActivityData Version: 1.2.0 Command: /home/biocbuild/bbs-3.17-bioc/R/bin/R CMD INSTALL NetActivityData StartedAt: 2023-10-12 10:01:06 -0400 (Thu, 12 Oct 2023) EndedAt: 2023-10-12 10:01:11 -0400 (Thu, 12 Oct 2023) EllapsedTime: 5.0 seconds RetCode: 0 Status: OK