Package: NetActivityData Version: 1.2.0 Command: /home/biocbuild/bbs-3.17-bioc/R/bin/R CMD build --keep-empty-dirs --no-resave-data NetActivityData StartedAt: 2023-10-12 10:42:55 -0400 (Thu, 12 Oct 2023) EndedAt: 2023-10-12 10:43:09 -0400 (Thu, 12 Oct 2023) EllapsedTime: 14.0 seconds RetCode: 0 Status: OK PackageFile: NetActivityData_1.2.0.tar.gz PackageFileSize: 5.269 MiB