Package: NGScopyData Version: 1.20.0 Command: /home/biocbuild/bbs-3.17-bioc/R/bin/R CMD INSTALL NGScopyData StartedAt: 2023-10-12 10:00:57 -0400 (Thu, 12 Oct 2023) EndedAt: 2023-10-12 10:00:59 -0400 (Thu, 12 Oct 2023) EllapsedTime: 1.8 seconds RetCode: 0 Status: OK