Package: NGScopyData Version: 1.20.0 Command: /home/biocbuild/bbs-3.17-bioc/R/bin/R CMD build --keep-empty-dirs --no-resave-data NGScopyData StartedAt: 2023-10-12 10:43:15 -0400 (Thu, 12 Oct 2023) EndedAt: 2023-10-12 10:43:19 -0400 (Thu, 12 Oct 2023) EllapsedTime: 4.0 seconds RetCode: 0 Status: OK PackageFile: NGScopyData_1.20.0.tar.gz PackageFileSize: 37 MiB